BEGIN:VCALENDAR
VERSION:2.0
PRODID:-//Keith Van Douglas - ECPv6.15.17//NONSGML v1.0//EN
CALSCALE:GREGORIAN
METHOD:PUBLISH
X-WR-CALNAME:Keith Van Douglas
X-ORIGINAL-URL:https://kvdouglas.com
X-WR-CALDESC:Events for Keith Van Douglas
REFRESH-INTERVAL;VALUE=DURATION:PT1H
X-Robots-Tag:noindex
X-PUBLISHED-TTL:PT1H
BEGIN:VTIMEZONE
TZID:UTC
BEGIN:STANDARD
TZOFFSETFROM:+0000
TZOFFSETTO:+0000
TZNAME:UTC
DTSTART:20170101T000000
END:STANDARD
END:VTIMEZONE
BEGIN:VEVENT
DTSTART;TZID=UTC:20180922T100000
DTEND;TZID=UTC:20180922T140000
DTSTAMP:20260421T162027
CREATED:20180901T124930Z
LAST-MODIFIED:20180901T125336Z
UID:1433-1537610400-1537624800@kvdouglas.com
SUMMARY:Gifted & Talented Extravaganza
DESCRIPTION:East Baton Rouge Parish School System\nGifted & Talented Extravaganza\nSept. 22\, 2018\n10AM To 2PM\nAt the Main EBR Main Library on Goodwood \nI will be there from 10 to 12 promoting the gifted and talented dept. with the schools where I teach.
URL:https://kvdouglas.com/event/gifted-talented-extravaganza/
LOCATION:East Baton Rouge Parish School System\, 7711 Goodwood Boulevard\,\, Baton Rouge\, LA\, 70806\, United States
ATTACH;FMTTYPE=image/jpeg:https://kvdouglas.com/wp-content/uploads/2018/08/Keith-Van-Douglas-4.jpg
END:VEVENT
BEGIN:VEVENT
DTSTART;TZID=UTC:20180904T080000
DTEND;TZID=UTC:20180927T163000
DTSTAMP:20260421T162027
CREATED:20180901T043311Z
LAST-MODIFIED:20180901T125236Z
UID:1430-1536048000-1538065800@kvdouglas.com
SUMMARY:Art Guild Of Louisiana - 3 Exhibits in 14 Days
DESCRIPTION:Keith Van Douglas\nArt Guild Of Louisiana – 3 Exhibits in 14 Days\n49th Annual River Road Show\nA National Juried Exhibition
URL:https://kvdouglas.com/event/art-guild-of-louisiana-3-exhibits-in-14-days/
LOCATION:Louisiana State Archives Gallery\, 3851 Essen Lane\, Baton Rouge\, LA\, 70809-2137\, United States
ATTACH;FMTTYPE=image/jpeg:https://kvdouglas.com/wp-content/uploads/2018/08/Keith-Van-Douglas-3.jpg
END:VEVENT
END:VCALENDAR